Package: hummingbird Version: 1.16.0 Command: rm -rf hummingbird.buildbin-libdir && mkdir hummingbird.buildbin-libdir && F:\biocbuild\bbs-3.20-bioc\R\bin\R.exe CMD INSTALL --build --library=hummingbird.buildbin-libdir hummingbird_1.16.0.tar.gz StartedAt: 2025-02-04 08:42:50 -0500 (Tue, 04 Feb 2025) EndedAt: 2025-02-04 08:43:45 -0500 (Tue, 04 Feb 2025) EllapsedTime: 55.5 seconds RetCode: 0 Status: OK PackageFile: hummingbird_1.16.0.zip PackageFileSize: 726.5 KiB