Package: hummingbird Version: 1.18.0 Command: /Library/Frameworks/R.framework/Resources/bin/R CMD INSTALL hummingbird StartedAt: 2025-04-28 19:04:50 -0400 (Mon, 28 Apr 2025) EndedAt: 2025-04-28 19:05:39 -0400 (Mon, 28 Apr 2025) EllapsedTime: 49.6 seconds RetCode: 0 Status: OK