Package: hummingbird Version: 1.16.0 Command: /Library/Frameworks/R.framework/Resources/bin/R CMD build --keep-empty-dirs --no-resave-data hummingbird StartedAt: 2025-02-03 19:39:59 -0500 (Mon, 03 Feb 2025) EndedAt: 2025-02-03 19:41:13 -0500 (Mon, 03 Feb 2025) EllapsedTime: 73.5 seconds RetCode: 0 Status: OK PackageFile: hummingbird_1.16.0.tar.gz PackageFileSize: 419.9 KiB