Package: hummingbird Version: 1.18.0 Command: /Library/Frameworks/R.framework/Resources/bin/R CMD INSTALL hummingbird StartedAt: 2025-04-21 15:17:56 -0400 (Mon, 21 Apr 2025) EndedAt: 2025-04-21 15:18:27 -0400 (Mon, 21 Apr 2025) EllapsedTime: 30.9 seconds RetCode: 0 Status: OK