Package: hummingbird Version: 1.18.0 Command: /Library/Frameworks/R.framework/Resources/bin/R CMD check --install=check:hummingbird.install-out.txt --library=/Library/Frameworks/R.framework/Resources/library --no-vignettes --timings hummingbird_1.18.0.tar.gz StartedAt: 2025-04-21 19:51:31 -0400 (Mon, 21 Apr 2025) EndedAt: 2025-04-21 19:52:31 -0400 (Mon, 21 Apr 2025) EllapsedTime: 60.8 seconds RetCode: 0 Status: OK CheckDir: hummingbird.Rcheck Warnings: 0