Package: hopach Version: 2.66.0 Command: chmod a+r hopach -R && F:\biocbuild\bbs-3.20-bioc\R\bin\R.exe CMD build --keep-empty-dirs --no-resave-data hopach StartedAt: 2025-01-30 19:31:30 -0500 (Thu, 30 Jan 2025) EndedAt: 2025-01-30 19:32:28 -0500 (Thu, 30 Jan 2025) EllapsedTime: 58.1 seconds RetCode: 0 Status: OK PackageFile: hopach_2.66.0.tar.gz PackageFileSize: 1.171 MiB