Package: hopach Version: 2.68.0 Command: /Library/Frameworks/R.framework/Resources/bin/R CMD INSTALL hopach StartedAt: 2025-04-24 16:44:42 -0400 (Thu, 24 Apr 2025) EndedAt: 2025-04-24 16:44:49 -0400 (Thu, 24 Apr 2025) EllapsedTime: 6.9 seconds RetCode: 0 Status: OK