Package: hipathia Version: 3.6.0 Command: /home/biocbuild/R/R/bin/R CMD check --install=check:hipathia.install-out.txt --library=/home/biocbuild/R/R/site-library --no-vignettes --timings hipathia_3.6.0.tar.gz StartedAt: 2025-02-04 07:51:38 -0000 (Tue, 04 Feb 2025) EndedAt: 2025-02-04 08:09:40 -0000 (Tue, 04 Feb 2025) EllapsedTime: 1082.0 seconds RetCode: 0 Status: OK CheckDir: hipathia.Rcheck Warnings: 0