Package: hipathia Version: 3.6.0 Command: /home/biocbuild/R/R/bin/R CMD build --keep-empty-dirs --no-resave-data hipathia StartedAt: 2025-01-31 00:17:56 -0000 (Fri, 31 Jan 2025) EndedAt: 2025-01-31 00:27:42 -0000 (Fri, 31 Jan 2025) EllapsedTime: 586.4 seconds RetCode: 0 Status: OK PackageFile: hipathia_3.6.0.tar.gz PackageFileSize: 7.752 MiB