Package: hierinf Version: 1.28.0 Command: /home/biocbuild/bbs-3.22-bioc/R/bin/R CMD INSTALL hierinf StartedAt: 2025-11-06 15:05:18 -0500 (Thu, 06 Nov 2025) EndedAt: 2025-11-06 15:05:48 -0500 (Thu, 06 Nov 2025) EllapsedTime: 29.9 seconds RetCode: 0 Status: OK