Package: hierinf Version: 1.28.0 Command: /Library/Frameworks/R.framework/Resources/bin/R CMD build --keep-empty-dirs --no-resave-data hierinf StartedAt: 2025-11-03 17:22:06 -0500 (Mon, 03 Nov 2025) EndedAt: 2025-11-03 17:23:43 -0500 (Mon, 03 Nov 2025) EllapsedTime: 97.0 seconds RetCode: 0 Status: OK PackageFile: hierinf_1.28.0.tar.gz PackageFileSize: 430.3 KiB