Package: hierinf Version: 1.28.0 Command: /Library/Frameworks/R.framework/Resources/bin/R CMD INSTALL hierinf StartedAt: 2025-11-06 15:03:37 -0500 (Thu, 06 Nov 2025) EndedAt: 2025-11-06 15:03:51 -0500 (Thu, 06 Nov 2025) EllapsedTime: 14.2 seconds RetCode: 0 Status: OK