Package: hierinf Version: 1.28.0 Command: /Library/Frameworks/R.framework/Resources/bin/R CMD build --keep-empty-dirs --no-resave-data hierinf StartedAt: 2025-11-06 16:41:46 -0500 (Thu, 06 Nov 2025) EndedAt: 2025-11-06 16:42:27 -0500 (Thu, 06 Nov 2025) EllapsedTime: 41.4 seconds RetCode: 0 Status: OK PackageFile: hierinf_1.28.0.tar.gz PackageFileSize: 432.1 KiB