Package: hierinf Version: 1.28.0 Command: /Library/Frameworks/R.framework/Resources/bin/R CMD INSTALL hierinf StartedAt: 2025-11-20 16:05:01 -0500 (Thu, 20 Nov 2025) EndedAt: 2025-11-20 16:05:11 -0500 (Thu, 20 Nov 2025) EllapsedTime: 9.9 seconds RetCode: 0 Status: OK