Package: hierinf Version: 1.28.0 Command: /Library/Frameworks/R.framework/Resources/bin/R CMD build --keep-empty-dirs --no-resave-data hierinf StartedAt: 2025-11-21 03:04:09 -0500 (Fri, 21 Nov 2025) EndedAt: 2025-11-21 03:05:35 -0500 (Fri, 21 Nov 2025) EllapsedTime: 85.9 seconds RetCode: 0 Status: OK PackageFile: hierinf_1.28.0.tar.gz PackageFileSize: 432.1 KiB