Package: hierinf Version: 1.28.0 Command: rm -rf hierinf.buildbin-libdir && mkdir hierinf.buildbin-libdir && /Users/biocbuild/BBS/utils/build-universal.sh hierinf_1.28.0.tar.gz /Library/Frameworks/R.framework/Resources/bin/R hierinf.buildbin-libdir StartedAt: 2025-11-23 09:08:47 -0500 (Sun, 23 Nov 2025) EndedAt: 2025-11-23 09:08:52 -0500 (Sun, 23 Nov 2025) EllapsedTime: 5.6 seconds RetCode: 0 Status: OK PackageFile: hierinf_1.28.0.tgz PackageFileSize: 500 KiB