Package: hierGWAS Version: 1.38.0 Command: /Library/Frameworks/R.framework/Resources/bin/R CMD build --keep-empty-dirs --no-resave-data hierGWAS StartedAt: 2025-04-21 17:07:09 -0400 (Mon, 21 Apr 2025) EndedAt: 2025-04-21 17:08:57 -0400 (Mon, 21 Apr 2025) EllapsedTime: 108.6 seconds RetCode: 0 Status: OK PackageFile: hierGWAS_1.38.0.tar.gz PackageFileSize: 566.4 KiB