Package: hierGWAS Version: 1.38.0 Maintainer: Laura Buzdugan MaintainerEmail: buzdugan at stat.math.ethz.ch git_url: https://git.bioconductor.org/packages/hierGWAS git_branch: RELEASE_3_21 git_last_commit: 0db2fed git_last_commit_date: 2025-04-15 10:51:31 -0400 (Tue, 15 Apr 2025)