Package: hicVennDiagram Version: 1.4.0 Command: /home/biocbuild/R/R/bin/R CMD INSTALL hicVennDiagram StartedAt: 2025-01-30 20:37:34 -0000 (Thu, 30 Jan 2025) EndedAt: 2025-01-30 20:38:14 -0000 (Thu, 30 Jan 2025) EllapsedTime: 39.7 seconds RetCode: 0 Status: OK