Package: hermes Version: 1.10.0 Command: /home/biocbuild/R/R/bin/R CMD INSTALL hermes StartedAt: 2025-01-30 20:35:38 -0000 (Thu, 30 Jan 2025) EndedAt: 2025-01-30 20:36:34 -0000 (Thu, 30 Jan 2025) EllapsedTime: 56.1 seconds RetCode: 0 Status: OK