Package: hermes Version: 1.10.0 Command: /home/biocbuild/R/R/bin/R CMD build --keep-empty-dirs --no-resave-data hermes StartedAt: 2025-01-31 00:15:32 -0000 (Fri, 31 Jan 2025) EndedAt: 2025-01-31 00:17:41 -0000 (Fri, 31 Jan 2025) EllapsedTime: 128.1 seconds RetCode: 0 Status: OK PackageFile: hermes_1.10.0.tar.gz PackageFileSize: 3.537 MiB