Package: hermes Version: 1.12.1 Command: /home/biocbuild/bbs-3.21-bioc/R/bin/R CMD build --keep-empty-dirs --no-resave-data hermes StartedAt: 2025-10-12 17:56:07 -0400 (Sun, 12 Oct 2025) EndedAt: 2025-10-12 17:57:47 -0400 (Sun, 12 Oct 2025) EllapsedTime: 100.1 seconds RetCode: 0 Status: OK PackageFile: hermes_1.12.1.tar.gz PackageFileSize: 4.281 MiB