Package: hermes Version: 1.12.0 Maintainer: Daniel Sabanés Bové MaintainerEmail: daniel.sabanes_bove at rconis.com git_url: https://git.bioconductor.org/packages/hermes git_branch: RELEASE_3_21 git_last_commit: c446057 git_last_commit_date: 2025-04-15 12:43:38 -0400 (Tue, 15 Apr 2025)