Package: heatmaps Version: 1.32.0 Maintainer: Malcolm Perry MaintainerEmail: mgperry32 at gmail.com git_url: https://git.bioconductor.org/packages/heatmaps git_branch: RELEASE_3_21 git_last_commit: 26ce830 git_last_commit_date: 2025-04-15 11:11:00 -0400 (Tue, 15 Apr 2025)