Package: hca Version: 1.14.0 Command: /home/biocbuild/bbs-3.20-bioc/R/bin/R CMD check --install=check:hca.install-out.txt --library=/home/biocbuild/bbs-3.20-bioc/R/site-library --timings hca_1.14.0.tar.gz StartedAt: 2025-01-30 22:55:44 -0500 (Thu, 30 Jan 2025) EndedAt: 2025-01-30 23:00:18 -0500 (Thu, 30 Jan 2025) EllapsedTime: 274.3 seconds RetCode: 0 Status: OK CheckDir: hca.Rcheck Warnings: 0