Package: hca Version: 1.16.0 Command: /home/biocbuild/R/R/bin/R CMD check --install=check:hca.install-out.txt --library=/home/biocbuild/R/R/site-library --no-vignettes --timings hca_1.16.0.tar.gz StartedAt: 2025-04-22 09:49:32 -0000 (Tue, 22 Apr 2025) EndedAt: 2025-04-22 10:01:25 -0000 (Tue, 22 Apr 2025) EllapsedTime: 712.6 seconds RetCode: 1 Status: ERROR CheckDir: hca.Rcheck Warnings: NA