Package: hca Version: 1.14.0 Command: /Library/Frameworks/R.framework/Resources/bin/R CMD check --install=check:hca.install-out.txt --library=/Library/Frameworks/R.framework/Resources/library --no-vignettes --timings hca_1.14.0.tar.gz StartedAt: 2025-01-31 21:42:14 -0500 (Fri, 31 Jan 2025) EndedAt: 2025-01-31 21:43:24 -0500 (Fri, 31 Jan 2025) EllapsedTime: 70.2 seconds RetCode: 1 Status: ERROR CheckDir: hca.Rcheck Warnings: NA