Package: hca Version: 1.14.0 Command: /Library/Frameworks/R.framework/Resources/bin/R CMD build --keep-empty-dirs --no-resave-data hca StartedAt: 2025-01-31 01:16:36 -0500 (Fri, 31 Jan 2025) EndedAt: 2025-01-31 01:19:05 -0500 (Fri, 31 Jan 2025) EllapsedTime: 149.1 seconds RetCode: 0 Status: OK PackageFile: hca_1.14.0.tar.gz PackageFileSize: 488.6 KiB