Package: hca Version: 1.14.0 Command: rm -rf hca.buildbin-libdir && mkdir hca.buildbin-libdir && /Users/biocbuild/BBS/utils/build-universal.sh hca_1.14.0.tar.gz /Library/Frameworks/R.framework/Resources/bin/R hca.buildbin-libdir StartedAt: 2025-02-01 15:15:15 -0500 (Sat, 01 Feb 2025) EndedAt: 2025-02-01 15:15:24 -0500 (Sat, 01 Feb 2025) EllapsedTime: 9.0 seconds RetCode: 0 Status: OK PackageFile: hca_1.14.0.tgz PackageFileSize: 591.8 KiB