Package: hapFabia Version: 1.50.0 Command: chmod a+r hapFabia -R && E:\biocbuild\bbs-3.21-bioc\R\bin\R.exe CMD build --keep-empty-dirs --no-resave-data hapFabia StartedAt: 2025-08-14 19:37:52 -0400 (Thu, 14 Aug 2025) EndedAt: 2025-08-14 19:38:59 -0400 (Thu, 14 Aug 2025) EllapsedTime: 66.3 seconds RetCode: 0 Status: OK PackageFile: hapFabia_1.50.0.tar.gz PackageFileSize: 1.572 MiB