Package: hapFabia Version: 1.50.0 Command: /Library/Frameworks/R.framework/Resources/bin/R CMD INSTALL hapFabia StartedAt: 2025-05-05 15:20:43 -0400 (Mon, 05 May 2025) EndedAt: 2025-05-05 15:21:07 -0400 (Mon, 05 May 2025) EllapsedTime: 23.9 seconds RetCode: 0 Status: OK