Package: hapFabia Version: 1.50.0 Command: /Library/Frameworks/R.framework/Resources/bin/R CMD check --install=check:hapFabia.install-out.txt --library=/Library/Frameworks/R.framework/Resources/library --no-vignettes --timings hapFabia_1.50.0.tar.gz StartedAt: 2025-05-09 04:20:14 -0400 (Fri, 09 May 2025) EndedAt: 2025-05-09 04:22:10 -0400 (Fri, 09 May 2025) EllapsedTime: 115.7 seconds RetCode: 0 Status: WARNINGS CheckDir: hapFabia.Rcheck Warnings: 1