Package: hapFabia Version: 1.50.0 Command: /Library/Frameworks/R.framework/Resources/bin/R CMD build --keep-empty-dirs --no-resave-data hapFabia StartedAt: 2025-05-08 19:29:31 -0400 (Thu, 08 May 2025) EndedAt: 2025-05-08 19:30:27 -0400 (Thu, 08 May 2025) EllapsedTime: 56.7 seconds RetCode: 0 Status: OK PackageFile: hapFabia_1.50.0.tar.gz PackageFileSize: 1.62 MiB