Package: hapFabia Version: 1.50.0 Command: /home/biocbuild/R/R/bin/R CMD INSTALL hapFabia StartedAt: 2025-05-08 20:30:49 -0000 (Thu, 08 May 2025) EndedAt: 2025-05-08 20:31:03 -0000 (Thu, 08 May 2025) EllapsedTime: 14.1 seconds RetCode: 0 Status: OK