Package: gtrellis Version: 1.42.0 Command: /home/biocbuild/bbs-3.22-bioc/R/bin/R CMD INSTALL gtrellis StartedAt: 2025-11-17 17:23:00 -0500 (Mon, 17 Nov 2025) EndedAt: 2025-11-17 17:23:10 -0500 (Mon, 17 Nov 2025) EllapsedTime: 9.7 seconds RetCode: 0 Status: OK