Package: gtrellis Version: 1.42.0 Command: /home/biocbuild/bbs-3.22-bioc/R/bin/R CMD build --keep-empty-dirs --no-resave-data --md5 gtrellis StartedAt: 2025-11-20 18:52:07 -0500 (Thu, 20 Nov 2025) EndedAt: 2025-11-20 18:54:33 -0500 (Thu, 20 Nov 2025) EllapsedTime: 146.1 seconds RetCode: 0 Status: OK PackageFile: gtrellis_1.42.0.tar.gz PackageFileSize: 2.747 MiB