Package: gtrellis Version: 1.40.0 Command: rm -rf gtrellis.buildbin-libdir && mkdir gtrellis.buildbin-libdir && /Users/biocbuild/BBS/utils/build-universal.sh gtrellis_1.40.0.tar.gz /Library/Frameworks/R.framework/Resources/bin/R gtrellis.buildbin-libdir StartedAt: 2025-10-10 13:40:30 -0400 (Fri, 10 Oct 2025) EndedAt: 2025-10-10 13:41:11 -0400 (Fri, 10 Oct 2025) EllapsedTime: 40.8 seconds RetCode: 0 Status: OK PackageFile: gtrellis_1.40.0.tgz PackageFileSize: 4.099 MiB