Package: groHMM Version: 1.42.0 Command: /Library/Frameworks/R.framework/Resources/bin/R CMD INSTALL groHMM StartedAt: 2025-05-01 15:45:59 -0400 (Thu, 01 May 2025) EndedAt: 2025-05-01 15:47:09 -0400 (Thu, 01 May 2025) EllapsedTime: 69.9 seconds RetCode: 0 Status: OK