Package: graphite Version: 1.54.0 Command: /Library/Frameworks/R.framework/Resources/bin/R CMD INSTALL graphite StartedAt: 2025-05-05 15:43:40 -0400 (Mon, 05 May 2025) EndedAt: 2025-05-05 15:44:11 -0400 (Mon, 05 May 2025) EllapsedTime: 30.2 seconds RetCode: 0 Status: OK