Package: graph Version: 1.84.1 Command: /home/biocbuild/R/R/bin/R CMD check --install=check:graph.install-out.txt --library=/home/biocbuild/R/R/site-library --no-vignettes --timings graph_1.84.1.tar.gz StartedAt: 2025-01-31 06:55:43 -0000 (Fri, 31 Jan 2025) EndedAt: 2025-01-31 06:56:39 -0000 (Fri, 31 Jan 2025) EllapsedTime: 56.1 seconds RetCode: 0 Status: OK CheckDir: graph.Rcheck Warnings: 0