Package: graper Version: 1.22.0 Command: rm -rf graper.buildbin-libdir && mkdir graper.buildbin-libdir && /Users/biocbuild/BBS/utils/build-universal.sh graper_1.22.0.tar.gz /Library/Frameworks/R.framework/Resources/bin/R graper.buildbin-libdir StartedAt: 2024-12-18 15:05:37 -0500 (Wed, 18 Dec 2024) EndedAt: 2024-12-18 15:06:11 -0500 (Wed, 18 Dec 2024) EllapsedTime: 33.8 seconds RetCode: 0 Status: OK PackageFile: graper_1.22.0.tgz PackageFileSize: 1.112 MiB