Package: granulator Version: 1.16.0 Command: chmod a+r granulator -R && E:\biocbuild\bbs-3.21-bioc\R\bin\R.exe CMD build --keep-empty-dirs --no-resave-data granulator StartedAt: 2025-08-14 19:31:57 -0400 (Thu, 14 Aug 2025) EndedAt: 2025-08-14 19:34:48 -0400 (Thu, 14 Aug 2025) EllapsedTime: 171.2 seconds RetCode: 0 Status: OK PackageFile: granulator_1.16.0.tar.gz PackageFileSize: 873 KiB