Package: granulator Version: 1.16.0 Command: rm -rf granulator.buildbin-libdir && mkdir granulator.buildbin-libdir && /Users/biocbuild/BBS/utils/build-universal.sh granulator_1.16.0.tar.gz /Library/Frameworks/R.framework/Resources/bin/R granulator.buildbin-libdir StartedAt: 2025-05-13 13:04:25 -0400 (Tue, 13 May 2025) EndedAt: 2025-05-13 13:05:03 -0400 (Tue, 13 May 2025) EllapsedTime: 37.3 seconds RetCode: 0 Status: OK PackageFile: granulator_1.16.0.tgz PackageFileSize: 1.372 MiB