Package: gpuMagic Version: 1.22.0 Command: /home/biocbuild/R/R/bin/R CMD INSTALL gpuMagic StartedAt: 2025-01-30 20:32:19 -0000 (Thu, 30 Jan 2025) EndedAt: 2025-01-30 20:32:22 -0000 (Thu, 30 Jan 2025) EllapsedTime: 3.1 seconds RetCode: 1 Status: ERROR