Package: gpuMagic Version: 1.22.0 Command: F:\biocbuild\bbs-3.20-bioc\R\bin\R.exe CMD INSTALL gpuMagic StartedAt: 2025-02-10 15:41:47 -0500 (Mon, 10 Feb 2025) EndedAt: 2025-02-10 15:43:10 -0500 (Mon, 10 Feb 2025) EllapsedTime: 83.0 seconds RetCode: 0 Status: OK