Package: gpuMagic Version: 1.22.0 Command: chmod a+r gpuMagic -R && F:\biocbuild\bbs-3.20-bioc\R\bin\R.exe CMD build --keep-empty-dirs --no-resave-data gpuMagic StartedAt: 2025-02-03 19:34:29 -0500 (Mon, 03 Feb 2025) EndedAt: 2025-02-03 19:35:48 -0500 (Mon, 03 Feb 2025) EllapsedTime: 78.6 seconds RetCode: 0 Status: OK PackageFile: gpuMagic_1.22.0.tar.gz PackageFileSize: 737.5 KiB