Package: gpuMagic Version: 1.22.0 Command: rm -rf gpuMagic.buildbin-libdir && mkdir gpuMagic.buildbin-libdir && F:\biocbuild\bbs-3.20-bioc\R\bin\R.exe CMD INSTALL --build --library=gpuMagic.buildbin-libdir gpuMagic_1.22.0.tar.gz StartedAt: 2025-02-04 08:38:57 -0500 (Tue, 04 Feb 2025) EndedAt: 2025-02-04 08:40:58 -0500 (Tue, 04 Feb 2025) EllapsedTime: 120.9 seconds RetCode: 0 Status: OK PackageFile: gpuMagic_1.22.0.zip PackageFileSize: 1.565 MiB