Package: gpuMagic Version: 1.21.0 Command: rm -rf gpuMagic.buildbin-libdir && mkdir gpuMagic.buildbin-libdir && C:\Users\biocbuild\bbs-3.20-bioc\R\bin\R.exe CMD INSTALL --build --library=gpuMagic.buildbin-libdir gpuMagic_1.21.0.tar.gz StartedAt: 2024-07-16 06:16:54 -0400 (Tue, 16 Jul 2024) EndedAt: 2024-07-16 06:17:29 -0400 (Tue, 16 Jul 2024) EllapsedTime: 35.1 seconds RetCode: 0 Status: OK PackageFile: gpuMagic_1.21.0.zip PackageFileSize: 1.564 MiB