Package: gpuMagic Version: 1.22.0 Command: /home/biocbuild/bbs-3.20-bioc/R/bin/R CMD check --install=check:gpuMagic.install-out.txt --library=/home/biocbuild/bbs-3.20-bioc/R/site-library --timings gpuMagic_1.22.0.tar.gz StartedAt: 2025-01-30 22:47:01 -0500 (Thu, 30 Jan 2025) EndedAt: 2025-01-30 22:48:26 -0500 (Thu, 30 Jan 2025) EllapsedTime: 85.1 seconds RetCode: 0 Status: WARNINGS CheckDir: gpuMagic.Rcheck Warnings: 1