Package: gpuMagic Version: 1.22.0 Command: /home/biocbuild/bbs-3.20-bioc/R/bin/R CMD build --keep-empty-dirs --no-resave-data --md5 gpuMagic StartedAt: 2025-01-30 17:31:12 -0500 (Thu, 30 Jan 2025) EndedAt: 2025-01-30 17:31:48 -0500 (Thu, 30 Jan 2025) EllapsedTime: 36.1 seconds RetCode: 0 Status: OK PackageFile: gpuMagic_1.22.0.tar.gz PackageFileSize: 739.9 KiB